BEGIN:VCALENDAR
VERSION:2.0
PRODID:-//Morongo Basin Healthcare District - ECPv6.15.20//NONSGML v1.0//EN
CALSCALE:GREGORIAN
METHOD:PUBLISH
X-ORIGINAL-URL:https://mbhdistrict.org
X-WR-CALDESC:Events for Morongo Basin Healthcare District
REFRESH-INTERVAL;VALUE=DURATION:PT1H
X-Robots-Tag:noindex
X-PUBLISHED-TTL:PT1H
BEGIN:VTIMEZONE
TZID:America/Los_Angeles
BEGIN:DAYLIGHT
TZOFFSETFROM:-0800
TZOFFSETTO:-0700
TZNAME:PDT
DTSTART:20230312T100000
END:DAYLIGHT
BEGIN:STANDARD
TZOFFSETFROM:-0700
TZOFFSETTO:-0800
TZNAME:PST
DTSTART:20231105T090000
END:STANDARD
BEGIN:DAYLIGHT
TZOFFSETFROM:-0800
TZOFFSETTO:-0700
TZNAME:PDT
DTSTART:20240310T100000
END:DAYLIGHT
BEGIN:STANDARD
TZOFFSETFROM:-0700
TZOFFSETTO:-0800
TZNAME:PST
DTSTART:20241103T090000
END:STANDARD
BEGIN:DAYLIGHT
TZOFFSETFROM:-0800
TZOFFSETTO:-0700
TZNAME:PDT
DTSTART:20250309T100000
END:DAYLIGHT
BEGIN:STANDARD
TZOFFSETFROM:-0700
TZOFFSETTO:-0800
TZNAME:PST
DTSTART:20251102T090000
END:STANDARD
BEGIN:DAYLIGHT
TZOFFSETFROM:-0800
TZOFFSETTO:-0700
TZNAME:PDT
DTSTART:20260308T100000
END:DAYLIGHT
BEGIN:STANDARD
TZOFFSETFROM:-0700
TZOFFSETTO:-0800
TZNAME:PST
DTSTART:20261101T090000
END:STANDARD
END:VTIMEZONE
BEGIN:VEVENT
DTSTART;TZID=America/Los_Angeles:20240814T100000
DTEND;TZID=America/Los_Angeles:20240814T150000
DTSTAMP:20260422T041827
CREATED:20240814T162228Z
LAST-MODIFIED:20240814T162228Z
UID:10000052-1723629600-1723647600@mbhdistrict.org
SUMMARY:Joshua Tree Community Center Resources
DESCRIPTION:
URL:https://mbhdistrict.org/event/joshua-tree-community-center-resources/
LOCATION:JT Community Center\, 6171 Sunburst Street\, Joshua Tree\, California\, 92252\, United States
ORGANIZER;CN="Dianna Anderson":MAILTO:danderson@mbhdistrict.org
END:VEVENT
BEGIN:VEVENT
DTSTART;TZID=America/Los_Angeles:20240918T100000
DTEND;TZID=America/Los_Angeles:20240918T133000
DTSTAMP:20260422T041827
CREATED:20231212T234352Z
LAST-MODIFIED:20231213T222058Z
UID:10000031-1726653600-1726666200@mbhdistrict.org
SUMMARY:Fall Prevention for Seniors - Yucca Valley Senior Ctr.
DESCRIPTION:MBHD will have a booth open at 10:00 a.m. \nFall Prevention for Seniors Presentation will begin at 11:30 a.m.
URL:https://mbhdistrict.org/event/fall-prevention/
LOCATION:Yucca Valley Senior Center\, 57088 Twentynine Palms Highway\, Yucca Valley\, CA\, 92284\, United States
END:VEVENT
BEGIN:VEVENT
DTSTART;TZID=America/Los_Angeles:20240919T100000
DTEND;TZID=America/Los_Angeles:20240919T133000
DTSTAMP:20260422T041827
CREATED:20231213T222217Z
LAST-MODIFIED:20231213T223005Z
UID:10000036-1726740000-1726752600@mbhdistrict.org
SUMMARY:Fall Prevention for Seniors - 29 Palms Senior Ctr.
DESCRIPTION:NBHD will have a booth open at 10:00 a.m. \nFall Prevention for Seniors talk will begin 11:30 a.m.
URL:https://mbhdistrict.org/event/fall-prevention-for-seniors-29-palms-senior-ctr/
LOCATION:29 Palms Senior Center\, 6539 Adobe Road\, 29 Palms\, 92277
END:VEVENT
BEGIN:VEVENT
DTSTART;TZID=America/Los_Angeles:20241120T100000
DTEND;TZID=America/Los_Angeles:20241120T133000
DTSTAMP:20260422T041827
CREATED:20231212T234449Z
LAST-MODIFIED:20231213T222251Z
UID:10000032-1732096800-1732109400@mbhdistrict.org
SUMMARY:Managing Diabetes Talk - Yucca Valley Senior Ctr.
DESCRIPTION:MBHD will have a booth open at 10:00 a.m. \nManaging Diabetes Talk will begin at 11:30 a.m.
URL:https://mbhdistrict.org/event/diabetes/
LOCATION:Yucca Valley Senior Center\, 57088 Twentynine Palms Highway\, Yucca Valley\, CA\, 92284\, United States
END:VEVENT
BEGIN:VEVENT
DTSTART;TZID=America/Los_Angeles:20241121T100000
DTEND;TZID=America/Los_Angeles:20241121T133000
DTSTAMP:20260422T041827
CREATED:20231213T222449Z
LAST-MODIFIED:20231213T222449Z
UID:10000037-1732183200-1732195800@mbhdistrict.org
SUMMARY:Managing Diabetes Talk - 29 Palms Senior Ctr.
DESCRIPTION:MBHD will have a booth open at 10:00 a.m. \nManaging Diabetes Talk will begin at 11:30 a.m.
URL:https://mbhdistrict.org/event/managing-diabetes-talk-29-palms-senior-ctr/
LOCATION:29 Palms Senior Center\, 6539 Adobe Road\, 29 Palms\, 92277
END:VEVENT
BEGIN:VEVENT
DTSTART;TZID=America/Los_Angeles:20241121T173000
DTEND;TZID=America/Los_Angeles:20241121T193000
DTSTAMP:20260422T041827
CREATED:20241119T232356Z
LAST-MODIFIED:20241119T232356Z
UID:10000053-1732210200-1732217400@mbhdistrict.org
SUMMARY:Bingo for Books
DESCRIPTION:
URL:https://mbhdistrict.org/event/bingo-for-books/
LOCATION:Palm Vista Elementary School\, 74350 Baseline Rd.\, Twentynine Palms\, CA\, 92277\, United States
ORGANIZER;CN="Dianna Anderson":MAILTO:danderson@mbhdistrict.org
END:VEVENT
BEGIN:VEVENT
DTSTART;TZID=America/Los_Angeles:20250610T103000
DTEND;TZID=America/Los_Angeles:20250610T123000
DTSTAMP:20260422T041827
CREATED:20250606T203237Z
LAST-MODIFIED:20250606T203237Z
UID:10000054-1749551400-1749558600@mbhdistrict.org
SUMMARY:Summer Meal Kickoff - Lucky Park 29 Palms
DESCRIPTION:
URL:https://mbhdistrict.org/event/summer-meal-kickoff-lucky-park-29-palms/
LOCATION:Luckie Park\, 5817-5701 Luckie Ave\, Twentynine Palms\, CA\, CA\, 92277\, United States
ORGANIZER;CN="Dianna Anderson":MAILTO:danderson@mbhdistrict.org
END:VEVENT
BEGIN:VEVENT
DTSTART;TZID=America/Los_Angeles:20250611T110000
DTEND;TZID=America/Los_Angeles:20250611T140000
DTSTAMP:20260422T041827
CREATED:20250606T203516Z
LAST-MODIFIED:20250606T203516Z
UID:10000055-1749639600-1749650400@mbhdistrict.org
SUMMARY:JT Community Center Resources
DESCRIPTION:CHC/HIV/Covered Cal/Cal-Fresh
URL:https://mbhdistrict.org/event/jt-community-center-resources/
LOCATION:JT Community Center\, 6171 Sunburst Street\, Joshua Tree\, California\, 92252\, United States
END:VEVENT
BEGIN:VEVENT
DTSTART;TZID=America/Los_Angeles:20250614T110000
DTEND;TZID=America/Los_Angeles:20250614T200000
DTSTAMP:20260422T041827
CREATED:20250606T204325Z
LAST-MODIFIED:20250606T204339Z
UID:10000056-1749898800-1749931200@mbhdistrict.org
SUMMARY:Juneteenth Celebration - Knott Sky Park - 29 Palms
DESCRIPTION:CHC/HIV Education
URL:https://mbhdistrict.org/event/juneteenth-celebration-knot-sky-park-29-palms/
LOCATION:CA
END:VEVENT
BEGIN:VEVENT
DTSTART;TZID=America/Los_Angeles:20250616T100000
DTEND;TZID=America/Los_Angeles:20250616T130000
DTSTAMP:20260422T041827
CREATED:20250606T204556Z
LAST-MODIFIED:20250606T205120Z
UID:10000058-1750068000-1750078800@mbhdistrict.org
SUMMARY:Health & Wellness Talks - Men's Health - JT Community Center
DESCRIPTION:
URL:https://mbhdistrict.org/event/health-wellness-talks-mens-health-2/
LOCATION:JT Community Center\, 6171 Sunburst Street\, Joshua Tree\, California\, 92252\, United States
END:VEVENT
BEGIN:VEVENT
DTSTART;TZID=America/Los_Angeles:20250619T100000
DTEND;TZID=America/Los_Angeles:20250619T130000
DTSTAMP:20260422T041827
CREATED:20250606T204656Z
LAST-MODIFIED:20250606T205053Z
UID:10000059-1750327200-1750338000@mbhdistrict.org
SUMMARY:Health & Wellness Talks - Men's Health - 29 Palms Sr. Center
DESCRIPTION:
URL:https://mbhdistrict.org/event/health-wellness-talks-mens-health-3/
LOCATION:29 Palms Senior Center\, 6539 Adobe Road\, 29 Palms\, 92277
END:VEVENT
BEGIN:VEVENT
DTSTART;TZID=America/Los_Angeles:20250625T100000
DTEND;TZID=America/Los_Angeles:20250625T130000
DTSTAMP:20260422T041827
CREATED:20250606T204459Z
LAST-MODIFIED:20250606T205024Z
UID:10000057-1750845600-1750856400@mbhdistrict.org
SUMMARY:Health & Wellness Talks - Men's Health - YV Senior Center
DESCRIPTION:
URL:https://mbhdistrict.org/event/health-wellness-talks-mens-health/
LOCATION:Yucca Valley Senior Center\, 57088 Twentynine Palms Highway\, Yucca Valley\, CA\, 92284\, United States
END:VEVENT
BEGIN:VEVENT
DTSTART;TZID=America/Los_Angeles:20250627T100000
DTEND;TZID=America/Los_Angeles:20250627T140000
DTSTAMP:20260422T041827
CREATED:20250606T204816Z
LAST-MODIFIED:20250606T204956Z
UID:10000060-1751018400-1751032800@mbhdistrict.org
SUMMARY:National HIV Testing Day -YV Wallgreens
DESCRIPTION:HIV/PrEP/Harm Reduction
URL:https://mbhdistrict.org/event/national-hiv-testing-day/
LOCATION:CA
END:VEVENT
BEGIN:VEVENT
DTSTART;TZID=America/Los_Angeles:20250709T110000
DTEND;TZID=America/Los_Angeles:20250709T140000
DTSTAMP:20260422T041827
CREATED:20250606T205313Z
LAST-MODIFIED:20250606T205313Z
UID:10000061-1752058800-1752069600@mbhdistrict.org
SUMMARY:JT Resources Fair - JT Community Center
DESCRIPTION:
URL:https://mbhdistrict.org/event/jt-resources-fair-jt-community-center/
LOCATION:JT Community Center\, 6171 Sunburst Street\, Joshua Tree\, California\, 92252\, United States
END:VEVENT
BEGIN:VEVENT
DTSTART;TZID=America/Los_Angeles:20250710T080000
DTEND;TZID=America/Los_Angeles:20250710T170000
DTSTAMP:20260422T041827
CREATED:20250606T205415Z
LAST-MODIFIED:20250606T205415Z
UID:10000062-1752134400-1752166800@mbhdistrict.org
SUMMARY:Morongo Basin Coalition Meeting - Reachout\, Yucca Valley
DESCRIPTION:
URL:https://mbhdistrict.org/event/morongo-basin-coalition-meeting-reachout-yucca-valley/
LOCATION:JT Community Center\, 6171 Sunburst Street\, Joshua Tree\, California\, 92252\, United States
END:VEVENT
BEGIN:VEVENT
DTSTART;TZID=America/Los_Angeles:20250717T100000
DTEND;TZID=America/Los_Angeles:20250717T113000
DTSTAMP:20260422T041827
CREATED:20250708T225704Z
LAST-MODIFIED:20250708T225839Z
UID:10000066-1752746400-1752751800@mbhdistrict.org
SUMMARY:East Desert Regional Steering Committee - Old JT Elementary School
DESCRIPTION:
URL:https://mbhdistrict.org/event/east-desert-regional-steering-committee/
LOCATION:Old JT Elementary School\, 4950 Sunburst Avenue\, Joshua Tree\, CA\, 92252\, United States
END:VEVENT
BEGIN:VEVENT
DTSTART;TZID=America/Los_Angeles:20250723T160000
DTEND;TZID=America/Los_Angeles:20250723T180000
DTSTAMP:20260422T041827
CREATED:20250708T230007Z
LAST-MODIFIED:20250708T230122Z
UID:10000067-1753286400-1753293600@mbhdistrict.org
SUMMARY:MGAGCC Back to School Night - West Gym on Base
DESCRIPTION:
URL:https://mbhdistrict.org/event/mgagcc-back-to-school-night-west-gym-on-base/
LOCATION:CA
END:VEVENT
BEGIN:VEVENT
DTSTART;TZID=America/Los_Angeles:20250730T080000
DTEND;TZID=America/Los_Angeles:20250730T170000
DTSTAMP:20260422T041827
CREATED:20250606T205541Z
LAST-MODIFIED:20250606T205541Z
UID:10000063-1753862400-1753894800@mbhdistrict.org
SUMMARY:Back to School - Backpack Give Away - JT Elementary School - Time TBD
DESCRIPTION:
URL:https://mbhdistrict.org/event/back-to-school-backpack-give-away-jt-elementary-school-time-tbd/
LOCATION:CA
END:VEVENT
BEGIN:VEVENT
DTSTART;TZID=America/Los_Angeles:20250811T080000
DTEND;TZID=America/Los_Angeles:20250815T170000
DTSTAMP:20260422T041827
CREATED:20250708T230303Z
LAST-MODIFIED:20250708T230303Z
UID:10000068-1754899200-1755277200@mbhdistrict.org
SUMMARY:Community Health Center Week
DESCRIPTION:
URL:https://mbhdistrict.org/event/community-health-center-week/
LOCATION:CA
END:VEVENT
BEGIN:VEVENT
DTSTART;TZID=America/Los_Angeles:20250813T110000
DTEND;TZID=America/Los_Angeles:20250813T140000
DTSTAMP:20260422T041827
CREATED:20250606T205649Z
LAST-MODIFIED:20250606T205649Z
UID:10000064-1755082800-1755093600@mbhdistrict.org
SUMMARY:JT Resource Fair - JT Community Center
DESCRIPTION:
URL:https://mbhdistrict.org/event/jt-resource-fair-jt-community-center/
LOCATION:JT Community Center\, 6171 Sunburst Street\, Joshua Tree\, California\, 92252\, United States
END:VEVENT
BEGIN:VEVENT
DTSTART;TZID=America/Los_Angeles:20250814T120000
DTEND;TZID=America/Los_Angeles:20250814T133000
DTSTAMP:20260422T041827
CREATED:20250606T205746Z
LAST-MODIFIED:20250606T205746Z
UID:10000065-1755172800-1755178200@mbhdistrict.org
SUMMARY:Morongo Basin Coalition Meeting - Reachout\, Yucca Valley
DESCRIPTION:
URL:https://mbhdistrict.org/event/morongo-basin-coalition-meeting-reachout-yucca-valley-2/
LOCATION:CA
END:VEVENT
BEGIN:VEVENT
DTSTART;TZID=America/Los_Angeles:20250904T180000
DTEND;TZID=America/Los_Angeles:20250904T200000
DTSTAMP:20260422T041827
CREATED:20250904T215400Z
LAST-MODIFIED:20250904T215400Z
UID:10000079-1757008800-1757016000@mbhdistrict.org
SUMMARY:MBHD Board of Directors Meeting
DESCRIPTION:
URL:https://mbhdistrict.org/event/mbhd-board-of-directors-meeting/
LOCATION:Morongo Basin Healthcare District\, 6530 La Contenta Road Suite #400\, Yucca Valley\, CA\, 92284\, United States
END:VEVENT
BEGIN:VEVENT
DTSTART;TZID=America/Los_Angeles:20250910T110000
DTEND;TZID=America/Los_Angeles:20250910T140000
DTSTAMP:20260422T041827
CREATED:20250904T212911Z
LAST-MODIFIED:20250904T212911Z
UID:10000072-1757502000-1757512800@mbhdistrict.org
SUMMARY:CHC\, Covered California\, and Cal Fresh
DESCRIPTION:
URL:https://mbhdistrict.org/event/chc-covered-california-and-cal-fresh/
LOCATION:JT Community Center\, 6171 Sunburst Street\, Joshua Tree\, California\, 92252\, United States
ORGANIZER;CN="Dianna Anderson":MAILTO:danderson@mbhdistrict.org
END:VEVENT
BEGIN:VEVENT
DTSTART;TZID=America/Los_Angeles:20250911T120000
DTEND;TZID=America/Los_Angeles:20250911T133000
DTSTAMP:20260422T041827
CREATED:20250904T213942Z
LAST-MODIFIED:20250904T213942Z
UID:10000073-1757592000-1757597400@mbhdistrict.org
SUMMARY:Morongo Basin Coalition Meeting
DESCRIPTION:
URL:https://mbhdistrict.org/event/morongo-basin-coalition-meeting/
LOCATION:Reachout Yucca Valley\, 7248 Joshua Lane\, Yucca Valley\, 92284\, United States
END:VEVENT
BEGIN:VEVENT
DTSTART;TZID=America/Los_Angeles:20250911T170000
DTEND;TZID=America/Los_Angeles:20250911T190000
DTSTAMP:20260422T041827
CREATED:20250904T215445Z
LAST-MODIFIED:20250904T215445Z
UID:10000080-1757610000-1757617200@mbhdistrict.org
SUMMARY:Community Health Center Board Meeting
DESCRIPTION:
URL:https://mbhdistrict.org/event/community-health-center-board-meeting/
LOCATION:Morongo Basin Healthcare District\, 6530 La Contenta Road Suite #400\, Yucca Valley\, CA\, 92284\, United States
END:VEVENT
BEGIN:VEVENT
DTSTART;TZID=America/Los_Angeles:20250915T100000
DTEND;TZID=America/Los_Angeles:20250915T120000
DTSTAMP:20260422T041827
CREATED:20250818T182207Z
LAST-MODIFIED:20250818T183112Z
UID:10000069-1757930400-1757937600@mbhdistrict.org
SUMMARY:Fall Prevention\, Home Safety\, and Scam Awareness
DESCRIPTION:These lectures will focus on safety in the home. Specifically\, trip and fall hazards you may not have noticed in your home. \nSafety devices and tools you need to secure your home environment and finally\, how to protect yourself from credit card\, \nbank\, and online scams that can steal your resources and personal information.
URL:https://mbhdistrict.org/event/fall-prevention-home-safety-and-scam-awareness/
LOCATION:JT Community Center\, 6171 Sunburst Street\, Joshua Tree\, California\, 92252\, United States
ORGANIZER;CN="Dianna Anderson":MAILTO:danderson@mbhdistrict.org
END:VEVENT
BEGIN:VEVENT
DTSTART;TZID=America/Los_Angeles:20250917T100000
DTEND;TZID=America/Los_Angeles:20250917T120000
DTSTAMP:20260422T041827
CREATED:20250818T182907Z
LAST-MODIFIED:20250818T183417Z
UID:10000071-1758103200-1758110400@mbhdistrict.org
SUMMARY:Fall Prevention\, Home Safety\, and Scam Awareness
DESCRIPTION:These lectures will focus on safety in the home. Specifically\, trip and fall hazards you may not have noticed in your home. \nSafety devices and tools you need to secure your home environment and finally\, how to protect yourself from credit card\, \nbank\, and online scams that can steal your resources and personal information.
URL:https://mbhdistrict.org/event/fall-prevention-home-safety-and-scam-awareness-3/
LOCATION:Yucca Valley Senior Center\, 57088 Twentynine Palms Highway\, Yucca Valley\, CA\, 92284\, United States
ORGANIZER;CN="Dianna Anderson":MAILTO:danderson@mbhdistrict.org
END:VEVENT
BEGIN:VEVENT
DTSTART;TZID=America/Los_Angeles:20250919T100000
DTEND;TZID=America/Los_Angeles:20250919T120000
DTSTAMP:20260422T041827
CREATED:20250818T182703Z
LAST-MODIFIED:20250818T182946Z
UID:10000070-1758276000-1758283200@mbhdistrict.org
SUMMARY:Fall Prevention\, Home Safety\, and Scam Awareness
DESCRIPTION:These lectures will focus on safety in the home. Specifically\, trip and fall hazards you may not have noticed in your home. \nSafety devices and tools you need to secure your home environment and finally\, how to protect yourself from credit card\, \nbank\, and online scams that can steal your resources and personal information.
URL:https://mbhdistrict.org/event/fall-prevention-home-safety-and-scam-awareness-2/
LOCATION:29 Palms Senior Center\, 6539 Adobe Road\, 29 Palms\, 92277
ORGANIZER;CN="Dianna Anderson":MAILTO:danderson@mbhdistrict.org
END:VEVENT
BEGIN:VEVENT
DTSTART;TZID=America/Los_Angeles:20251002T180000
DTEND;TZID=America/Los_Angeles:20251002T200000
DTSTAMP:20260422T041827
CREATED:20250904T215531Z
LAST-MODIFIED:20250904T215531Z
UID:10000081-1759428000-1759435200@mbhdistrict.org
SUMMARY:MBHD Board of Directors Meeting
DESCRIPTION:
URL:https://mbhdistrict.org/event/mbhd-board-of-directors-meeting-2/
LOCATION:Morongo Basin Healthcare District\, 6530 La Contenta Road Suite #400\, Yucca Valley\, CA\, 92284\, United States
END:VEVENT
BEGIN:VEVENT
DTSTART;TZID=America/Los_Angeles:20251008T110000
DTEND;TZID=America/Los_Angeles:20251008T140000
DTSTAMP:20260422T041827
CREATED:20250904T214437Z
LAST-MODIFIED:20250904T214437Z
UID:10000074-1759921200-1759932000@mbhdistrict.org
SUMMARY:CHC\, Covered California\, and Cal Fresh
DESCRIPTION:
URL:https://mbhdistrict.org/event/chc-covered-california-and-cal-fresh-2/
LOCATION:JT Community Center\, 6171 Sunburst Street\, Joshua Tree\, California\, 92252\, United States
ORGANIZER;CN="Dianna Anderson":MAILTO:danderson@mbhdistrict.org
END:VEVENT
END:VCALENDAR